BEGIN:VCALENDAR
VERSION:2.0
PRODID:-//Boys &amp; Girls Club of Southeast Kansas - ECPv6.15.17.1//NONSGML v1.0//EN
CALSCALE:GREGORIAN
METHOD:PUBLISH
X-WR-CALNAME:Boys &amp; Girls Club of Southeast Kansas
X-ORIGINAL-URL:https://bgcsek.org
X-WR-CALDESC:Events for Boys &amp; Girls Club of Southeast Kansas
REFRESH-INTERVAL;VALUE=DURATION:PT1H
X-Robots-Tag:noindex
X-PUBLISHED-TTL:PT1H
BEGIN:VTIMEZONE
TZID:UTC
BEGIN:STANDARD
TZOFFSETFROM:+0000
TZOFFSETTO:+0000
TZNAME:UTC
DTSTART:20220101T000000
END:STANDARD
END:VTIMEZONE
BEGIN:VEVENT
DTSTART;VALUE=DATE:20230306
DTEND;VALUE=DATE:20230311
DTSTAMP:20260424T043453
CREATED:20220804T162757Z
LAST-MODIFIED:20220804T162757Z
UID:281-1678060800-1678492799@bgcsek.org
SUMMARY:Club Closed
DESCRIPTION:
URL:https://bgcsek.org/event/club-closed-9/
END:VEVENT
BEGIN:VEVENT
DTSTART;VALUE=DATE:20230313
DTEND;VALUE=DATE:20230314
DTSTAMP:20260424T043453
CREATED:20220804T162817Z
LAST-MODIFIED:20220804T162817Z
UID:282-1678665600-1678751999@bgcsek.org
SUMMARY:Club Closed
DESCRIPTION:
URL:https://bgcsek.org/event/club-closed-10/
END:VEVENT
BEGIN:VEVENT
DTSTART;VALUE=DATE:20230314
DTEND;VALUE=DATE:20230317
DTSTAMP:20260424T043453
CREATED:20220804T162935Z
LAST-MODIFIED:20220804T162935Z
UID:283-1678752000-1679011199@bgcsek.org
SUMMARY:Club Open 7:30-5:30
DESCRIPTION:Bring lunch and snack.
URL:https://bgcsek.org/event/club-open-730-530-5/
END:VEVENT
BEGIN:VEVENT
DTSTART;VALUE=DATE:20230317
DTEND;VALUE=DATE:20230318
DTSTAMP:20260424T043453
CREATED:20220804T163127Z
LAST-MODIFIED:20220804T163127Z
UID:284-1679011200-1679097599@bgcsek.org
SUMMARY:No Club
DESCRIPTION:
URL:https://bgcsek.org/event/no-club/
END:VEVENT
BEGIN:VEVENT
DTSTART;TZID=UTC:20230323T160000
DTEND;TZID=UTC:20230323T173000
DTSTAMP:20260424T043453
CREATED:20220927T145410Z
LAST-MODIFIED:20220927T145410Z
UID:302-1679587200-1679592600@bgcsek.org
SUMMARY:Skate Day!
DESCRIPTION:
URL:https://bgcsek.org/event/skate-day-6/
END:VEVENT
END:VCALENDAR