BEGIN:VCALENDAR
VERSION:2.0
PRODID:-//Boys &amp; Girls Club of Southeast Kansas - ECPv6.15.17.1//NONSGML v1.0//EN
CALSCALE:GREGORIAN
METHOD:PUBLISH
X-WR-CALNAME:Boys &amp; Girls Club of Southeast Kansas
X-ORIGINAL-URL:https://bgcsek.org
X-WR-CALDESC:Events for Boys &amp; Girls Club of Southeast Kansas
REFRESH-INTERVAL;VALUE=DURATION:PT1H
X-Robots-Tag:noindex
X-PUBLISHED-TTL:PT1H
BEGIN:VTIMEZONE
TZID:UTC
BEGIN:STANDARD
TZOFFSETFROM:+0000
TZOFFSETTO:+0000
TZNAME:UTC
DTSTART:20220101T000000
END:STANDARD
END:VTIMEZONE
BEGIN:VEVENT
DTSTART;VALUE=DATE:20230102
DTEND;VALUE=DATE:20230103
DTSTAMP:20260422T044019
CREATED:20220804T162556Z
LAST-MODIFIED:20220804T162556Z
UID:278-1672617600-1672703999@bgcsek.org
SUMMARY:Club Closed
DESCRIPTION:
URL:https://bgcsek.org/event/club-closed-7/
END:VEVENT
BEGIN:VEVENT
DTSTART;VALUE=DATE:20230116
DTEND;VALUE=DATE:20230117
DTSTAMP:20260422T044019
CREATED:20220804T162615Z
LAST-MODIFIED:20220804T162615Z
UID:279-1673827200-1673913599@bgcsek.org
SUMMARY:Club Closed
DESCRIPTION:
URL:https://bgcsek.org/event/club-closed-8/
END:VEVENT
BEGIN:VEVENT
DTSTART;TZID=UTC:20230119T160000
DTEND;TZID=UTC:20230119T173000
DTSTAMP:20260422T044019
CREATED:20220927T145319Z
LAST-MODIFIED:20220927T145319Z
UID:300-1674144000-1674149400@bgcsek.org
SUMMARY:Skate Day!
DESCRIPTION:
URL:https://bgcsek.org/event/skate-day-4/
END:VEVENT
END:VCALENDAR