BEGIN:VCALENDAR
VERSION:2.0
PRODID:-//Boys &amp; Girls Club of Southeast Kansas - ECPv6.15.17.1//NONSGML v1.0//EN
CALSCALE:GREGORIAN
METHOD:PUBLISH
X-ORIGINAL-URL:https://bgcsek.org
X-WR-CALDESC:Events for Boys &amp; Girls Club of Southeast Kansas
REFRESH-INTERVAL;VALUE=DURATION:PT1H
X-Robots-Tag:noindex
X-PUBLISHED-TTL:PT1H
BEGIN:VTIMEZONE
TZID:UTC
BEGIN:STANDARD
TZOFFSETFROM:+0000
TZOFFSETTO:+0000
TZNAME:UTC
DTSTART:20210101T000000
END:STANDARD
END:VTIMEZONE
BEGIN:VEVENT
DTSTART;VALUE=DATE:20221213
DTEND;VALUE=DATE:20221214
DTSTAMP:20260424T072057
CREATED:20221129T152007Z
LAST-MODIFIED:20221129T152007Z
UID:325-1670889600-1670975999@bgcsek.org
SUMMARY:Shop With A Cop- Independence
DESCRIPTION:
URL:https://bgcsek.org/event/shop-with-a-cop-independence/
END:VEVENT
BEGIN:VEVENT
DTSTART;TZID=UTC:20221215T160000
DTEND;TZID=UTC:20221215T173000
DTSTAMP:20260424T072057
CREATED:20220927T145230Z
LAST-MODIFIED:20220927T145230Z
UID:299-1671120000-1671125400@bgcsek.org
SUMMARY:Skate Day!
DESCRIPTION:
URL:https://bgcsek.org/event/skate-day-3/
END:VEVENT
BEGIN:VEVENT
DTSTART;VALUE=DATE:20221216
DTEND;VALUE=DATE:20221217
DTSTAMP:20260424T072057
CREATED:20221129T151940Z
LAST-MODIFIED:20221129T151940Z
UID:324-1671148800-1671235199@bgcsek.org
SUMMARY:Shop With A Cop- Coffeyville & Caney
DESCRIPTION:
URL:https://bgcsek.org/event/shop-with-a-cop-coffeyville-caney/
END:VEVENT
BEGIN:VEVENT
DTSTART;VALUE=DATE:20221219
DTEND;VALUE=DATE:20221222
DTSTAMP:20260424T072057
CREATED:20220804T162409Z
LAST-MODIFIED:20220804T162409Z
UID:274-1671408000-1671667199@bgcsek.org
SUMMARY:Club Open 7:30-5:30
DESCRIPTION:Bring lunch and snack.
URL:https://bgcsek.org/event/club-open-730-530-3/
END:VEVENT
BEGIN:VEVENT
DTSTART;VALUE=DATE:20221222
DTEND;VALUE=DATE:20221224
DTSTAMP:20260424T072057
CREATED:20220804T162436Z
LAST-MODIFIED:20220804T162436Z
UID:275-1671667200-1671839999@bgcsek.org
SUMMARY:Club Closed
DESCRIPTION:
URL:https://bgcsek.org/event/club-closed-5/
END:VEVENT
BEGIN:VEVENT
DTSTART;VALUE=DATE:20221226
DTEND;VALUE=DATE:20221229
DTSTAMP:20260424T072057
CREATED:20220804T162502Z
LAST-MODIFIED:20220816T191420Z
UID:276-1672012800-1672271999@bgcsek.org
SUMMARY:Club Open 7:30-5:30
DESCRIPTION:Bring lunch and snack.
URL:https://bgcsek.org/event/club-open/
END:VEVENT
BEGIN:VEVENT
DTSTART;VALUE=DATE:20221229
DTEND;VALUE=DATE:20221231
DTSTAMP:20260424T072057
CREATED:20220804T162530Z
LAST-MODIFIED:20220804T162530Z
UID:277-1672272000-1672444799@bgcsek.org
SUMMARY:Club Closed
DESCRIPTION:
URL:https://bgcsek.org/event/club-closed-6/
END:VEVENT
END:VCALENDAR