BEGIN:VCALENDAR
VERSION:2.0
PRODID:-//Boys &amp; Girls Club of Southeast Kansas - ECPv6.15.17.1//NONSGML v1.0//EN
CALSCALE:GREGORIAN
METHOD:PUBLISH
X-ORIGINAL-URL:https://bgcsek.org
X-WR-CALDESC:Events for Boys &amp; Girls Club of Southeast Kansas
REFRESH-INTERVAL;VALUE=DURATION:PT1H
X-Robots-Tag:noindex
X-PUBLISHED-TTL:PT1H
BEGIN:VTIMEZONE
TZID:UTC
BEGIN:STANDARD
TZOFFSETFROM:+0000
TZOFFSETTO:+0000
TZNAME:UTC
DTSTART:20210101T000000
END:STANDARD
END:VTIMEZONE
BEGIN:VEVENT
DTSTART;VALUE=DATE:20221114
DTEND;VALUE=DATE:20221115
DTSTAMP:20260424T114428
CREATED:20220804T162305Z
LAST-MODIFIED:20220816T191310Z
UID:272-1668384000-1668470399@bgcsek.org
SUMMARY:Club Open 7:30-5:30
DESCRIPTION:Bring lunch and snack.
URL:https://bgcsek.org/event/club-open-730-530-2/
END:VEVENT
BEGIN:VEVENT
DTSTART;VALUE=DATE:20221117
DTEND;VALUE=DATE:20221118
DTSTAMP:20260424T114428
CREATED:20220927T152034Z
LAST-MODIFIED:20220927T152355Z
UID:307-1668643200-1668729599@bgcsek.org
SUMMARY:Match Day! Please Donate!
DESCRIPTION:
URL:https://bgcsek.org/event/match-day-please-donate/
END:VEVENT
BEGIN:VEVENT
DTSTART;TZID=UTC:20221117T160000
DTEND;TZID=UTC:20221117T173000
DTSTAMP:20260424T114428
CREATED:20220927T145202Z
LAST-MODIFIED:20220927T145202Z
UID:298-1668700800-1668706200@bgcsek.org
SUMMARY:Skate Day!
DESCRIPTION:
URL:https://bgcsek.org/event/skate-day-2/
END:VEVENT
BEGIN:VEVENT
DTSTART;VALUE=DATE:20221123
DTEND;VALUE=DATE:20221126
DTSTAMP:20260424T114428
CREATED:20220804T162324Z
LAST-MODIFIED:20220804T162324Z
UID:273-1669161600-1669420799@bgcsek.org
SUMMARY:Club Closed
DESCRIPTION:
URL:https://bgcsek.org/event/club-closed-4/
END:VEVENT
END:VCALENDAR