BEGIN:VCALENDAR
VERSION:2.0
PRODID:-//Boys &amp; Girls Club of Southeast Kansas - ECPv6.15.17.1//NONSGML v1.0//EN
CALSCALE:GREGORIAN
METHOD:PUBLISH
X-WR-CALNAME:Boys &amp; Girls Club of Southeast Kansas
X-ORIGINAL-URL:https://bgcsek.org
X-WR-CALDESC:Events for Boys &amp; Girls Club of Southeast Kansas
REFRESH-INTERVAL;VALUE=DURATION:PT1H
X-Robots-Tag:noindex
X-PUBLISHED-TTL:PT1H
BEGIN:VTIMEZONE
TZID:America/Chicago
BEGIN:DAYLIGHT
TZOFFSETFROM:-0600
TZOFFSETTO:-0500
TZNAME:CDT
DTSTART:20220313T080000
END:DAYLIGHT
BEGIN:STANDARD
TZOFFSETFROM:-0500
TZOFFSETTO:-0600
TZNAME:CST
DTSTART:20221106T070000
END:STANDARD
BEGIN:DAYLIGHT
TZOFFSETFROM:-0600
TZOFFSETTO:-0500
TZNAME:CDT
DTSTART:20230312T080000
END:DAYLIGHT
BEGIN:STANDARD
TZOFFSETFROM:-0500
TZOFFSETTO:-0600
TZNAME:CST
DTSTART:20231105T070000
END:STANDARD
BEGIN:DAYLIGHT
TZOFFSETFROM:-0600
TZOFFSETTO:-0500
TZNAME:CDT
DTSTART:20240310T080000
END:DAYLIGHT
BEGIN:STANDARD
TZOFFSETFROM:-0500
TZOFFSETTO:-0600
TZNAME:CST
DTSTART:20241103T070000
END:STANDARD
END:VTIMEZONE
BEGIN:VEVENT
DTSTART;VALUE=DATE:20230630
DTEND;VALUE=DATE:20230701
DTSTAMP:20260424T131234
CREATED:20230517T151523Z
LAST-MODIFIED:20230517T151523Z
UID:396-1688083200-1688169599@bgcsek.org
SUMMARY:Teens to Air & Space
DESCRIPTION:
URL:https://bgcsek.org/event/teens-to-air-space/
END:VEVENT
BEGIN:VEVENT
DTSTART;TZID=America/Chicago:20230630T090000
DTEND;TZID=America/Chicago:20230630T110000
DTSTAMP:20260424T131234
CREATED:20230517T150940Z
LAST-MODIFIED:20230517T150940Z
UID:382-1688115600-1688122800@bgcsek.org
SUMMARY:Skate Day
DESCRIPTION:
URL:https://bgcsek.org/event/skate-day-12/
END:VEVENT
END:VCALENDAR